BEGIN:VCALENDAR
PRODID:-//eluceo/ical//2.0/EN
VERSION:2.0
CALSCALE:GREGORIAN
BEGIN:VEVENT
UID:ed490d89003bec3c14f02386d96b29e0
DTSTAMP:20260423T060619Z
SUMMARY:Conferenza - In vetta con l'esercito
DESCRIPTION:Govornik(ci): Marco Mudry
URL:https://rotarybellinzona.ch/bs/agenda/show/136543
DTSTART;TZID=Europe/Zurich:20220309T183000
DTEND;TZID=Europe/Zurich:20220309T194500
LOCATION:Auditorium Banca Stato\, Bellinzona
CATEGORIES:Rotary
END:VEVENT
BEGIN:VTIMEZONE
TZID:Europe/Zurich
BEGIN:STANDARD
DTSTART:20220309T183000
TZNAME:CET
TZOFFSETTO:+0100
TZOFFSETFROM:+0100
END:STANDARD
END:VTIMEZONE
END:VCALENDAR
