BEGIN:VCALENDAR
PRODID:-//eluceo/ical//2.0/EN
VERSION:2.0
CALSCALE:GREGORIAN
BEGIN:VEVENT
UID:cec2b7c1aa8969c8afd9b1e3698dc1da
DTSTAMP:20260423T054712Z
SUMMARY:Conferenza - Un padre che legge\, un figlio che scrive
DESCRIPTION:Web stranica: http://www.hotel-unione.ch\nGovornik(ci): Michele
  FazioliAndrea Fazioli
URL:https://rotarybellinzona.ch/bs/agenda/show/136570
DTSTART;TZID=Europe/Zurich:20220413T184500
DTEND;TZID=Europe/Zurich:20220413T223000
LOCATION:Albergo-Ristorante Unione\, Via Henri Guisan 4\, 6500 Bellinzona
CATEGORIES:Rotary
END:VEVENT
BEGIN:VTIMEZONE
TZID:Europe/Zurich
BEGIN:DAYLIGHT
DTSTART:20220413T184500
TZNAME:CEST
TZOFFSETTO:+0200
TZOFFSETFROM:+0200
END:DAYLIGHT
END:VTIMEZONE
END:VCALENDAR
