BEGIN:VCALENDAR
PRODID:-//eluceo/ical//2.0/EN
VERSION:2.0
CALSCALE:GREGORIAN
BEGIN:VEVENT
UID:60d4542e04742d115988475534b76680
DTSTAMP:20260420T140157Z
SUMMARY:18.00 - Conferenza sulla sicurezza
DESCRIPTION:19.15 Segue cena in sede (accompagnati)
URL:https://rotarybellinzona.ch/bs/agenda/show/38204
DTSTART;TZID=Europe/Zurich:20140212T180000
DTEND;TZID=Europe/Zurich:20140212T180000
LOCATION:Auditorio Banca Stato
CATEGORIES:Rotary
END:VEVENT
BEGIN:VTIMEZONE
TZID:Europe/Zurich
BEGIN:STANDARD
DTSTART:20140212T180000
TZNAME:CET
TZOFFSETTO:+0100
TZOFFSETFROM:+0100
END:STANDARD
END:VTIMEZONE
END:VCALENDAR
