BEGIN:VCALENDAR
PRODID:-//eluceo/ical//2.0/EN
VERSION:2.0
CALSCALE:GREGORIAN
BEGIN:VEVENT
UID:3bc108494c86424dce87c52f976ac798
DTSTAMP:20260420T134627Z
SUMMARY:Cade
DESCRIPTION:
URL:https://rotarybellinzona.ch/bs/agenda/show/39152
DTSTART;TZID=Europe/Zurich:20140319T000000
DTEND;TZID=Europe/Zurich:20140319T000000
LOCATION:-
CATEGORIES:Rotary
END:VEVENT
BEGIN:VTIMEZONE
TZID:Europe/Zurich
BEGIN:STANDARD
DTSTART:20140319T000000
TZNAME:CET
TZOFFSETTO:+0100
TZOFFSETFROM:+0100
END:STANDARD
END:VTIMEZONE
END:VCALENDAR
