BEGIN:VCALENDAR
PRODID:-//eluceo/ical//2.0/EN
VERSION:2.0
CALSCALE:GREGORIAN
BEGIN:VEVENT
UID:f197e515860a69e37abfba4032de93e9
DTSTAMP:20260424T125036Z
SUMMARY:18.30 - Conferenza con Flavia Marone: "L'impresa Turismo"
DESCRIPTION:19.30 ca. segue cena in sede (accompagnati)
URL:https://rotarybellinzona.ch/bs/agenda/show/39915
DTSTART;TZID=Europe/Zurich:20140402T183000
DTEND;TZID=Europe/Zurich:20140402T183000
LOCATION:Auditorio Banca Stato
CATEGORIES:Rotary
END:VEVENT
BEGIN:VTIMEZONE
TZID:Europe/Zurich
BEGIN:DAYLIGHT
DTSTART:20140402T183000
TZNAME:CEST
TZOFFSETTO:+0200
TZOFFSETFROM:+0200
END:DAYLIGHT
END:VTIMEZONE
END:VCALENDAR
