BEGIN:VCALENDAR
PRODID:-//eluceo/ical//2.0/EN
VERSION:2.0
CALSCALE:GREGORIAN
BEGIN:VEVENT
UID:1b995db39b62872b9cb7a1fdcccda1e4
DTSTAMP:20260422T111013Z
SUMMARY:19.15 - Convivio Grotto Scalinata\, Tenero
DESCRIPTION:Con Waldis Ratti / Accompagnati
URL:https://rotarybellinzona.ch/bs/agenda/show/41763
DTSTART;TZID=Europe/Zurich:20140723T191500
DTEND;TZID=Europe/Zurich:20140723T191500
LOCATION:Grotto Scalinata\, Tenero
CATEGORIES:Rotary
END:VEVENT
BEGIN:VTIMEZONE
TZID:Europe/Zurich
BEGIN:DAYLIGHT
DTSTART:20140723T191500
TZNAME:CEST
TZOFFSETTO:+0200
TZOFFSETFROM:+0200
END:DAYLIGHT
END:VTIMEZONE
END:VCALENDAR
