BEGIN:VCALENDAR
PRODID:-//eluceo/ical//2.0/EN
VERSION:2.0
CALSCALE:GREGORIAN
BEGIN:VEVENT
UID:dad7816da7db1c1f0b6ad5347adf9ed5
DTSTAMP:20260422T111202Z
SUMMARY:Giubileo dei 60 anni RC Bellinzona / Rc Briga
DESCRIPTION:Accompagnati\n\n \n\nLa giornata organizzata dall’amico Reto
  Bonguglielmi\, che ringraziamo\, prevede il seguente programma:\n\n\n8.00
        Partenza da Bellinzona (il luogo verrà comunicato in seguito
 )\n9.30       Incontro sul Passo della Novena con gli amici rotarian
 i del RC Briga.\n11.15     Visita guidata della chiesa Barocca di Mûs
 ter e della Katherinen Kapelle a Geschinen. Saremo accompagnati dalla sign
 ora Claudia Guntern\, nota restauratrice.\n\n\nAl termine il RC Briga offr
 e l’aperitivo.\n\n\n12.30     Pranzo all’Hotel Hubertus a Obergest
 eln.\n15.30     Partenza per rientro a Bellinzona.\n\n\n \n\nPer iscr
 iversi all’evento vi prego gentilmente di aderire al seguente sondaggio 
 Doodle entro l’11 agosto: http://doodle.com/72chwfycg97xhfpq\n\n \n\nTr
 asferta:\n\n-per la trasferta verrà organizzato un bus unicamente se ci s
 aranno almeno 15 persone interessate. Chi fosse quindi disposto a compiere
  il viaggio in torpedone è pregato di comunicarlo al Segretario tramite 
 posta elettronica il più presto possibile.\n\n 
URL:https://rotarybellinzona.ch/bs/agenda/show/43511
DTSTART;TZID=Europe/Zurich:20140823T000000
DTEND;TZID=Europe/Zurich:20140823T000000
LOCATION:Incontro sulla Nufenen
CATEGORIES:Rotary
END:VEVENT
BEGIN:VTIMEZONE
TZID:Europe/Zurich
BEGIN:DAYLIGHT
DTSTART:20140823T000000
TZNAME:CEST
TZOFFSETTO:+0200
TZOFFSETFROM:+0200
END:DAYLIGHT
END:VTIMEZONE
END:VCALENDAR
