BEGIN:VCALENDAR
PRODID:-//eluceo/ical//2.0/EN
VERSION:2.0
CALSCALE:GREGORIAN
BEGIN:VEVENT
UID:64c531f25a453d9ac7a910d83695903e
DTSTAMP:20260420T150043Z
SUMMARY:Visita Gottardo Arena
DESCRIPTION:
URL:https://rotarybellinzona.ch/de/agenda/show/144151
DTSTART;TZID=Europe/Zurich:20220720T183000
DTEND;TZID=Europe/Zurich:20220720T223000
LOCATION:Gottardo Arena\, Ambrì
CATEGORIES:Rotary
END:VEVENT
BEGIN:VTIMEZONE
TZID:Europe/Zurich
BEGIN:DAYLIGHT
DTSTART:20220720T183000
TZNAME:CEST
TZOFFSETTO:+0200
TZOFFSETFROM:+0200
END:DAYLIGHT
END:VTIMEZONE
END:VCALENDAR
