BEGIN:VCALENDAR
PRODID:-//eluceo/ical//2.0/EN
VERSION:2.0
CALSCALE:GREGORIAN
BEGIN:VEVENT
UID:dcabe553121e9ff5db15500ead2a0429
DTSTAMP:20260423T104035Z
SUMMARY:19.00 / Passaggio delle cariche
DESCRIPTION:Accompagnati
URL:https://rotarybellinzona.ch/fr/agenda/show/119906
DTSTART;TZID=Europe/Zurich:20210623T000000
DTEND;TZID=Europe/Zurich:20210623T000000
LOCATION:Albergo-Ristorante Unione
CATEGORIES:Rotary
END:VEVENT
BEGIN:VTIMEZONE
TZID:Europe/Zurich
BEGIN:DAYLIGHT
DTSTART:20210623T000000
TZNAME:CEST
TZOFFSETTO:+0200
TZOFFSETFROM:+0200
END:DAYLIGHT
END:VTIMEZONE
END:VCALENDAR
