BEGIN:VCALENDAR
PRODID:-//eluceo/ical//2.0/EN
VERSION:2.0
CALSCALE:GREGORIAN
BEGIN:VEVENT
UID:468c17abf21cb1a4d67a009f0448c96e
DTSTAMP:20260419T155232Z
SUMMARY:Cade
DESCRIPTION:
URL:https://rotarybellinzona.ch/fr/agenda/show/119907
DTSTART;TZID=Europe/Zurich:20210630T000000
DTEND;TZID=Europe/Zurich:20210630T000000
LOCATION:-
CATEGORIES:Rotary
END:VEVENT
BEGIN:VTIMEZONE
TZID:Europe/Zurich
BEGIN:DAYLIGHT
DTSTART:20210630T000000
TZNAME:CEST
TZOFFSETTO:+0200
TZOFFSETFROM:+0200
END:DAYLIGHT
END:VTIMEZONE
END:VCALENDAR
