BEGIN:VCALENDAR
PRODID:-//eluceo/ical//2.0/EN
VERSION:2.0
CALSCALE:GREGORIAN
BEGIN:VEVENT
UID:ef60a5210f9c66a760bca4e1203ae8ab
DTSTAMP:20260421T214356Z
SUMMARY:Cade
DESCRIPTION:
URL:https://rotarybellinzona.ch/fr/agenda/show/136846
DTSTART;TZID=Europe/Zurich:20220420T000000
DTEND;TZID=Europe/Zurich:20220420T000000
LOCATION:-
CATEGORIES:Rotary
END:VEVENT
BEGIN:VTIMEZONE
TZID:Europe/Zurich
BEGIN:DAYLIGHT
DTSTART:20220420T000000
TZNAME:CEST
TZOFFSETTO:+0200
TZOFFSETFROM:+0200
END:DAYLIGHT
END:VTIMEZONE
END:VCALENDAR
