BEGIN:VCALENDAR
PRODID:-//eluceo/ical//2.0/EN
VERSION:2.0
CALSCALE:GREGORIAN
BEGIN:VEVENT
UID:5953a5cd8d0276af433f11ed99a71bc2
DTSTAMP:20260421T183334Z
SUMMARY:Vernissage - Le stanze dell'arte
DESCRIPTION:
URL:https://rotarybellinzona.ch/fr/agenda/show/136847
DTSTART;TZID=Europe/Zurich:20220427T183000
DTEND;TZID=Europe/Zurich:20220427T213000
LOCATION:Sala Patriziale\, Palazzo civico Bellinzona
CATEGORIES:Rotary
END:VEVENT
BEGIN:VTIMEZONE
TZID:Europe/Zurich
BEGIN:DAYLIGHT
DTSTART:20220427T183000
TZNAME:CEST
TZOFFSETTO:+0200
TZOFFSETFROM:+0200
END:DAYLIGHT
END:VTIMEZONE
END:VCALENDAR
