BEGIN:VCALENDAR
PRODID:-//eluceo/ical//2.0/EN
VERSION:2.0
CALSCALE:GREGORIAN
BEGIN:VEVENT
UID:dcd49340430e89c393f39230b8e1e845
DTSTAMP:20260421T183154Z
SUMMARY:Conferenza "Il valore della libertà"
DESCRIPTION:Site internet: http://www.hotel-unione.ch\nConférencier(s): Ge
 rardo Rigozzi
URL:https://rotarybellinzona.ch/fr/agenda/show/140390
DTSTART;TZID=Europe/Zurich:20220504T184500
DTEND;TZID=Europe/Zurich:20220504T223000
LOCATION:Albergo-Ristorante Unione\, Via Henri Guisan 4\, 6500 Bellinzona
CATEGORIES:Rotary
END:VEVENT
BEGIN:VTIMEZONE
TZID:Europe/Zurich
BEGIN:DAYLIGHT
DTSTART:20220504T184500
TZNAME:CEST
TZOFFSETTO:+0200
TZOFFSETFROM:+0200
END:DAYLIGHT
END:VTIMEZONE
END:VCALENDAR
