BEGIN:VCALENDAR
PRODID:-//eluceo/ical//2.0/EN
VERSION:2.0
CALSCALE:GREGORIAN
BEGIN:VEVENT
UID:d66891b52a418df353f2718e06d01442
DTSTAMP:20260422T040659Z
SUMMARY:Conferenza - Sfide attuali e future del settore sanitario
DESCRIPTION:Sito web: http://www.hotel-unione.ch\nRelatore/i: Raffaele De R
 osa
URL:https://rotarybellinzona.ch/it/agenda/show/136532
DTSTART;TZID=Europe/Zurich:20220209T184500
DTEND;TZID=Europe/Zurich:20220209T223000
LOCATION:Albergo-Ristorante Unione\, Via Henri Guisan 4\, 6500 Bellinzona
CATEGORIES:Rotary
END:VEVENT
BEGIN:VTIMEZONE
TZID:Europe/Zurich
BEGIN:STANDARD
DTSTART:20220209T184500
TZNAME:CET
TZOFFSETTO:+0100
TZOFFSETFROM:+0100
END:STANDARD
END:VTIMEZONE
END:VCALENDAR
