BEGIN:VCALENDAR
PRODID:-//eluceo/ical//2.0/EN
VERSION:2.0
CALSCALE:GREGORIAN
BEGIN:VEVENT
UID:0fcfcef251396080e7418bedc7ac1667
DTSTAMP:20260422T070934Z
SUMMARY:Seminario per neo-rotariani
DESCRIPTION:Sito web: http://www.hotel-unione.ch\nRelatore/i: Tiziano Allev
 i\, Assistente del Governatore D1980
URL:https://rotarybellinzona.ch/it/agenda/show/136545
DTSTART;TZID=Europe/Zurich:20220323T163000
DTEND;TZID=Europe/Zurich:20220323T190000
LOCATION:Albergo-Ristorante Unione\, Via Henri Guisan 4\, 6500 Bellinzona
CATEGORIES:Rotary
END:VEVENT
BEGIN:VTIMEZONE
TZID:Europe/Zurich
BEGIN:STANDARD
DTSTART:20220323T163000
TZNAME:CET
TZOFFSETTO:+0100
TZOFFSETFROM:+0100
END:STANDARD
END:VTIMEZONE
END:VCALENDAR
