BEGIN:VCALENDAR
PRODID:-//eluceo/ical//2.0/EN
VERSION:2.0
CALSCALE:GREGORIAN
BEGIN:VEVENT
UID:a00f703993eca6c282b015c9a58a6a06
DTSTAMP:20260419T232332Z
SUMMARY:Conferenza di classifica - Ivan Ambrosini
DESCRIPTION:Website: http://www.hotel-unione.ch
URL:https://rotarybellinzona.ch/nl/agenda/show/127516
DTSTART;TZID=Europe/Zurich:20210908T184500
DTEND;TZID=Europe/Zurich:20210908T220000
LOCATION:Albergo-Ristorante Unione\, Via Henri Guisan 4\, 6500 Bellinzona
CATEGORIES:Rotary
END:VEVENT
BEGIN:VTIMEZONE
TZID:Europe/Zurich
BEGIN:DAYLIGHT
DTSTART:20210908T184500
TZNAME:CEST
TZOFFSETTO:+0200
TZOFFSETFROM:+0200
END:DAYLIGHT
END:VTIMEZONE
END:VCALENDAR
