BEGIN:VCALENDAR
PRODID:-//eluceo/ical//2.0/EN
VERSION:2.0
CALSCALE:GREGORIAN
BEGIN:VEVENT
UID:093b0076d51f4dc9440ad6584d32b029
DTSTAMP:20260419T212609Z
SUMMARY:Visita cantiere nuova galleria stradale S. Gottardo
DESCRIPTION:Website: https://www.astra.admin.ch/astra/it/home/temi/strade-n
 azionali/cantieri/sud-est-della-svizzera/secondotubogst.html
URL:https://rotarybellinzona.ch/nl/agenda/show/127522
DTSTART;TZID=Europe/Zurich:20210915T183000
DTEND;TZID=Europe/Zurich:20210915T223000
LOCATION:Airolo
CATEGORIES:Rotary
END:VEVENT
BEGIN:VTIMEZONE
TZID:Europe/Zurich
BEGIN:DAYLIGHT
DTSTART:20210915T183000
TZNAME:CEST
TZOFFSETTO:+0200
TZOFFSETFROM:+0200
END:DAYLIGHT
END:VTIMEZONE
END:VCALENDAR
