BEGIN:VCALENDAR
PRODID:-//eluceo/ical//2.0/EN
VERSION:2.0
CALSCALE:GREGORIAN
BEGIN:VEVENT
UID:60f25d1d20b737ec40975e0f39250550
DTSTAMP:20260419T173730Z
SUMMARY:Conviviale
DESCRIPTION:Website: http://www.hotel-unione.ch
URL:https://rotarybellinzona.ch/nl/agenda/show/127526
DTSTART;TZID=Europe/Zurich:20210929T121500
DTEND;TZID=Europe/Zurich:20210929T133000
LOCATION:Albergo-Ristorante Unione\, Via Henri Guisan 4\, 6500 Bellinzona
CATEGORIES:Rotary
END:VEVENT
BEGIN:VTIMEZONE
TZID:Europe/Zurich
BEGIN:DAYLIGHT
DTSTART:20210929T121500
TZNAME:CEST
TZOFFSETTO:+0200
TZOFFSETFROM:+0200
END:DAYLIGHT
END:VTIMEZONE
END:VCALENDAR
