BEGIN:VCALENDAR
PRODID:-//eluceo/ical//2.0/EN
VERSION:2.0
CALSCALE:GREGORIAN
BEGIN:VEVENT
UID:f11c3e01dd0cc647c6c2681f7ad4fda6
DTSTAMP:20260423T132144Z
SUMMARY:Conviviale
DESCRIPTION:Website: http://www.hotel-unione.ch
URL:https://rotarybellinzona.ch/nl/agenda/show/136520
DTSTART;TZID=Europe/Zurich:20220119T121500
DTEND;TZID=Europe/Zurich:20220119T133000
LOCATION:Albergo-Ristorante Unione\, Via Henri Guisan 4\, 6500 Bellinzona
CATEGORIES:Rotary
END:VEVENT
BEGIN:VTIMEZONE
TZID:Europe/Zurich
BEGIN:STANDARD
DTSTART:20220119T121500
TZNAME:CET
TZOFFSETTO:+0100
TZOFFSETFROM:+0100
END:STANDARD
END:VTIMEZONE
END:VCALENDAR
