BEGIN:VCALENDAR
PRODID:-//eluceo/ical//2.0/EN
VERSION:2.0
CALSCALE:GREGORIAN
BEGIN:VEVENT
UID:9109e00c826595f7ec0f0897b0375525
DTSTAMP:20260423T092122Z
SUMMARY:Cena al grotto
DESCRIPTION:Website: https://grottovalmaggese.ch
URL:https://rotarybellinzona.ch/nl/agenda/show/144153
DTSTART;TZID=Europe/Zurich:20220824T183000
DTEND;TZID=Europe/Zurich:20220824T223000
LOCATION:Grotto Valmaggese\, Avegno
CATEGORIES:Rotary
END:VEVENT
BEGIN:VTIMEZONE
TZID:Europe/Zurich
BEGIN:DAYLIGHT
DTSTART:20220824T183000
TZNAME:CEST
TZOFFSETTO:+0200
TZOFFSETFROM:+0200
END:DAYLIGHT
END:VTIMEZONE
END:VCALENDAR
