BEGIN:VCALENDAR
PRODID:-//eluceo/ical//2.0/EN
VERSION:2.0
CALSCALE:GREGORIAN
BEGIN:VEVENT
UID:70c43f0ac34555bdf739e7d5b146be80
DTSTAMP:20260420T091345Z
SUMMARY:PETS\, 4-5 aprile 2014
DESCRIPTION:Iscrizioni entro 28.03.2014 su http://www.rotary1980.ch\n\n► 
 Vedi Flyer
URL:https://rotarybellinzona.ch/nl/agenda/show/39918
DTSTART;TZID=Europe/Zurich:20140404T000000
DTEND;TZID=Europe/Zurich:20140405T000000
LOCATION:Aarau
CATEGORIES:Rotary
END:VEVENT
BEGIN:VTIMEZONE
TZID:Europe/Zurich
BEGIN:DAYLIGHT
DTSTART:20140404T000000
TZNAME:CEST
TZOFFSETTO:+0200
TZOFFSETFROM:+0200
END:DAYLIGHT
END:VTIMEZONE
END:VCALENDAR
