BEGIN:VCALENDAR
PRODID:-//eluceo/ical//2.0/EN
VERSION:2.0
CALSCALE:GREGORIAN
BEGIN:VEVENT
UID:a13da658c995d5786d45ec32f7f91e4f
DTSTAMP:20260419T140225Z
SUMMARY:12.15 - Convivio
DESCRIPTION:
URL:https://rotarybellinzona.ch/nl/agenda/show/40945
DTSTART;TZID=Europe/Zurich:20140618T000000
DTEND;TZID=Europe/Zurich:20140618T000000
LOCATION:Albergo-Ristorante Unione
CATEGORIES:Rotary
END:VEVENT
BEGIN:VTIMEZONE
TZID:Europe/Zurich
BEGIN:DAYLIGHT
DTSTART:20140618T000000
TZNAME:CEST
TZOFFSETTO:+0200
TZOFFSETFROM:+0200
END:DAYLIGHT
END:VTIMEZONE
END:VCALENDAR
