BEGIN:VCALENDAR
PRODID:-//eluceo/ical//2.0/EN
VERSION:2.0
CALSCALE:GREGORIAN
BEGIN:VEVENT
UID:7f6c8474f6a81a0f8ed6fea15a6193b6
DTSTAMP:20260420T093711Z
SUMMARY:18.30 - Noi 6.0: discussione no.1 "Da dove veniamo?"
DESCRIPTION:Organizzazione Bibi Casagrande e Erminio Giudici + gruppo saggi
  - Segue cena in sede - Accompagnati\n\nAttenzione: nuovo orario 18.30 anz
 iché 19.15  / nuova location Hotel Unione anziché Banca Stato
URL:https://rotarybellinzona.ch/nl/agenda/show/43516
DTSTART;TZID=Europe/Zurich:20140924T000000
DTEND;TZID=Europe/Zurich:20140924T000000
LOCATION:Albergo-Ristorante Unione
CATEGORIES:Rotary
END:VEVENT
BEGIN:VTIMEZONE
TZID:Europe/Zurich
BEGIN:DAYLIGHT
DTSTART:20140924T000000
TZNAME:CEST
TZOFFSETTO:+0200
TZOFFSETFROM:+0200
END:DAYLIGHT
END:VTIMEZONE
END:VCALENDAR
