BEGIN:VCALENDAR
PRODID:-//eluceo/ical//2.0/EN
VERSION:2.0
CALSCALE:GREGORIAN
BEGIN:VEVENT
UID:63e7d0fe9c66f66e43b4694a6fcf8c65
DTSTAMP:20260420T102123Z
SUMMARY:12.15 - Convivio
DESCRIPTION:Info progetto scout Distretto (C. Leuenberger\, Ass. Gov.)
URL:https://rotarybellinzona.ch/nl/agenda/show/43520
DTSTART;TZID=Europe/Zurich:20141015T000000
DTEND;TZID=Europe/Zurich:20141015T000000
LOCATION:Albergo-Ristorante Unione
CATEGORIES:Rotary
END:VEVENT
BEGIN:VTIMEZONE
TZID:Europe/Zurich
BEGIN:DAYLIGHT
DTSTART:20141015T000000
TZNAME:CEST
TZOFFSETTO:+0200
TZOFFSETFROM:+0200
END:DAYLIGHT
END:VTIMEZONE
END:VCALENDAR
