BEGIN:VCALENDAR
PRODID:-//eluceo/ical//2.0/EN
VERSION:2.0
CALSCALE:GREGORIAN
BEGIN:VEVENT
UID:6862a91f9f4e082546076a8aebce3029
DTSTAMP:20260419T135921Z
SUMMARY:12.15 - Convivio
DESCRIPTION:
URL:https://rotarybellinzona.ch/nl/agenda/show/96459
DTSTART;TZID=Europe/Zurich:20190320T000000
DTEND;TZID=Europe/Zurich:20190320T000000
LOCATION:Albergo-Ristorante Unione
CATEGORIES:Rotary
END:VEVENT
BEGIN:VTIMEZONE
TZID:Europe/Zurich
BEGIN:STANDARD
DTSTART:20190320T000000
TZNAME:CET
TZOFFSETTO:+0100
TZOFFSETFROM:+0100
END:STANDARD
END:VTIMEZONE
END:VCALENDAR
