BEGIN:VCALENDAR
PRODID:-//eluceo/ical//2.0/EN
VERSION:2.0
CALSCALE:GREGORIAN
BEGIN:VEVENT
UID:3c6e65b311a7c6d6522655ad9b3df2dc
DTSTAMP:20260419T135101Z
SUMMARY:18.30 - Visita a Swiss Lachs con Rotaract
DESCRIPTION:Accompagnati
URL:https://rotarybellinzona.ch/nl/agenda/show/96469
DTSTART;TZID=Europe/Zurich:20190522T000000
DTEND;TZID=Europe/Zurich:20190522T000000
LOCATION:Lostallo
CATEGORIES:Rotary
END:VEVENT
BEGIN:VTIMEZONE
TZID:Europe/Zurich
BEGIN:DAYLIGHT
DTSTART:20190522T000000
TZNAME:CEST
TZOFFSETTO:+0200
TZOFFSETFROM:+0200
END:DAYLIGHT
END:VTIMEZONE
END:VCALENDAR
