BEGIN:VCALENDAR
PRODID:-//eluceo/ical//2.0/EN
VERSION:2.0
CALSCALE:GREGORIAN
BEGIN:VEVENT
UID:8c1b152c4411c7e00a862d5afbfe306d
DTSTAMP:20260419T140055Z
SUMMARY:15.00 - Festa dell'albero
DESCRIPTION:Paganini Ré
URL:https://rotarybellinzona.ch/sv/agenda/show/36451
DTSTART;TZID=Europe/Zurich:20131214T150000
DTEND;TZID=Europe/Zurich:20131214T150000
LOCATION:Paganini Ré
CATEGORIES:Rotary
END:VEVENT
BEGIN:VTIMEZONE
TZID:Europe/Zurich
BEGIN:STANDARD
DTSTART:20131214T150000
TZNAME:CET
TZOFFSETTO:+0100
TZOFFSETFROM:+0100
END:STANDARD
END:VTIMEZONE
END:VCALENDAR
