BEGIN:VCALENDAR
PRODID:-//eluceo/ical//2.0/EN
VERSION:2.0
CALSCALE:GREGORIAN
BEGIN:VEVENT
UID:d62d6580a43d7c4711e2f68b674ebe94
DTSTAMP:20260419T135704Z
SUMMARY:Festa 60° RC Bellinzona
DESCRIPTION:18.45 Aperitivo di benvenuto / 19.30 Presentazione progetti e o
 spiti / 20.15 Cena del 60.esimo\nMeny: ► Invito
URL:https://rotarybellinzona.ch/sv/agenda/show/36623
DTSTART;TZID=Europe/Zurich:20140129T184500
DTEND;TZID=Europe/Zurich:20140129T184500
LOCATION:Albergo-Ristorante Unione
CATEGORIES:Rotary
END:VEVENT
BEGIN:VTIMEZONE
TZID:Europe/Zurich
BEGIN:STANDARD
DTSTART:20140129T184500
TZNAME:CET
TZOFFSETTO:+0100
TZOFFSETFROM:+0100
END:STANDARD
END:VTIMEZONE
END:VCALENDAR
